BEGIN:VCALENDAR
VERSION:2.0
PRODID:-//Epic Journey - ECPv6.15.18//NONSGML v1.0//EN
CALSCALE:GREGORIAN
METHOD:PUBLISH
X-WR-CALNAME:Epic Journey
X-ORIGINAL-URL:https://journeytoepic.org
X-WR-CALDESC:Events for Epic Journey
REFRESH-INTERVAL;VALUE=DURATION:PT1H
X-Robots-Tag:noindex
X-PUBLISHED-TTL:PT1H
BEGIN:VTIMEZONE
TZID:America/Chicago
BEGIN:DAYLIGHT
TZOFFSETFROM:-0600
TZOFFSETTO:-0500
TZNAME:CDT
DTSTART:20250309T080000
END:DAYLIGHT
BEGIN:STANDARD
TZOFFSETFROM:-0500
TZOFFSETTO:-0600
TZNAME:CST
DTSTART:20251102T070000
END:STANDARD
BEGIN:DAYLIGHT
TZOFFSETFROM:-0600
TZOFFSETTO:-0500
TZNAME:CDT
DTSTART:20260308T080000
END:DAYLIGHT
BEGIN:STANDARD
TZOFFSETFROM:-0500
TZOFFSETTO:-0600
TZNAME:CST
DTSTART:20261101T070000
END:STANDARD
BEGIN:DAYLIGHT
TZOFFSETFROM:-0600
TZOFFSETTO:-0500
TZNAME:CDT
DTSTART:20270314T080000
END:DAYLIGHT
BEGIN:STANDARD
TZOFFSETFROM:-0500
TZOFFSETTO:-0600
TZNAME:CST
DTSTART:20271107T070000
END:STANDARD
END:VTIMEZONE
BEGIN:VEVENT
DTSTART;TZID=America/Chicago:20260428T170000
DTEND;TZID=America/Chicago:20260428T180000
DTSTAMP:20260423T054151
CREATED:20260211T215258Z
LAST-MODIFIED:20260211T215258Z
UID:10000211-1777395600-1777399200@journeytoepic.org
SUMMARY:Fireside Chat
DESCRIPTION:Physician / APP Discussion & Updates \nHear about the latest Epic Journey updates and ask questions at an upcoming Epic Fireside Chat. These informal monthly discussions for physicians and APPs are scheduled for the fourth Tuesday of each month. \nJoin the conversation via Zoom at https://uab.zoom.us/j/89646402214. \nIf you have questions\, please email Stu Booth\, M.D.
URL:https://journeytoepic.org/event/fireside-chat-3/
END:VEVENT
BEGIN:VEVENT
DTSTART;TZID=America/Chicago:20260526T170000
DTEND;TZID=America/Chicago:20260526T180000
DTSTAMP:20260423T054151
CREATED:20260211T215413Z
LAST-MODIFIED:20260211T215413Z
UID:10000212-1779814800-1779818400@journeytoepic.org
SUMMARY:Fireside Chat
DESCRIPTION:Physician / APP Discussion & Updates \nHear about the latest Epic Journey updates and ask questions at an upcoming Epic Fireside Chat. These informal monthly discussions for physicians and APPs are scheduled for the fourth Tuesday of each month. \nJoin the conversation via Zoom at https://uab.zoom.us/j/89646402214. \nIf you have questions\, please email Stu Booth\, M.D.
URL:https://journeytoepic.org/event/fireside-chat-4/
END:VEVENT
BEGIN:VEVENT
DTSTART;TZID=America/Chicago:20260623T170000
DTEND;TZID=America/Chicago:20260623T180000
DTSTAMP:20260423T054151
CREATED:20260417T190237Z
LAST-MODIFIED:20260417T190414Z
UID:10000244-1782234000-1782237600@journeytoepic.org
SUMMARY:Fireside Chat
DESCRIPTION:Physician / APP Discussion & Updates \nHear about the latest Epic Journey updates and ask questions at an upcoming Epic Fireside Chat. These informal monthly discussions for physicians and APPs are scheduled for the fourth Tuesday of each month. \nJoin the conversation via Zoom at https://uab.zoom.us/j/89646402214. \nIf you have questions\, please email Stu Booth\, M.D.
URL:https://journeytoepic.org/event/physician-app-discussion-updates/
END:VEVENT
BEGIN:VEVENT
DTSTART;VALUE=DATE:20260725
DTEND;VALUE=DATE:20260726
DTSTAMP:20260423T054151
CREATED:20260310T200539Z
LAST-MODIFIED:20260310T200539Z
UID:10000243-1784937600-1785023999@journeytoepic.org
SUMMARY:Wave 1 Go-Live
DESCRIPTION:The number one question is “when will we go live?” Check out these two timelines showing the two waves\, each with targeted Go Live dates. Updates to the timeline will be shared as we progress through the implementation.
URL:https://journeytoepic.org/event/wave-1-go-live/
END:VEVENT
BEGIN:VEVENT
DTSTART;TZID=America/Chicago:20260728T170000
DTEND;TZID=America/Chicago:20260728T180000
DTSTAMP:20260423T054151
CREATED:20260417T190535Z
LAST-MODIFIED:20260417T190535Z
UID:10000245-1785258000-1785261600@journeytoepic.org
SUMMARY:Fireside Chat
DESCRIPTION:Physician / APP Discussion & Updates \nHear about the latest Epic Journey updates and ask questions at an upcoming Epic Fireside Chat. These informal monthly discussions for physicians and APPs are scheduled for the fourth Tuesday of each month. \nJoin the conversation via Zoom at https://uab.zoom.us/j/89646402214. \nIf you have questions\, please email Stu Booth\, M.D.
URL:https://journeytoepic.org/event/fireside-chat-5/
END:VEVENT
END:VCALENDAR